BEGIN:VCALENDAR
VERSION:2.0
PRODID:-//Ceramics Studio//EN
BEGIN:VEVENT
UID:1776798768359@ceramics-coming-soon
DTSTAMP:20260421T191248
DTSTART:20251101T010000
DTEND:20251101T050000
SUMMARY:Kath Stanwix Ceramics — Market Pop-up
LOCATION:Darlington Arts Festival
DESCRIPTION:Come say hi to Kath Stanwix Ceramics!
END:VEVENT
END:VCALENDAR